BEGIN:VCALENDAR
VERSION:2.0
PRODID:-//ChamberMaster//Event Calendar 2.0//EN
METHOD:PUBLISH
X-PUBLISHED-TTL:P3D
REFRESH-INTERVAL:P3D
CALSCALE:GREGORIAN
BEGIN:VEVENT
DTSTART;VALUE=DATE:20151002
DTEND;VALUE=DATE:20151005
TRANSP:TRANSPARENT
X-MICROSOFT-CDO-ALLDAYEVENT:TRUE
SUMMARY:Weavers & More Show and Sale
DESCRIPTION:The Tzouhalem Spinners & Weavers Guild is holding a three-day show and sale of its members' work. Throughout the event there will be demonstrations of spinning\, weaving\, bobbin lace\, felt making\, knitting\, kumihimo braiding and basketry.
X-ALT-DESC;FMTTYPE=text/html:The Tzouhalem Spinners &amp\; Weavers Guild is holding a three-day show and sale of its members&#39\; work. Throughout the event there will be demonstrations of spinning\, weaving\, bobbin lace\, felt making\, knitting\, kumihimo braiding and basketry.
LOCATION:Cowichan Bay Maritime Centre\, 1761 Cowichan Bay Road\, Cowichan Bay
UID:e.1867.3852
SEQUENCE:3
DTSTAMP:20260422T141058Z
URL:https://business.duncancc.bc.ca/events/details/weavers-more-show-and-sale-10-02-2015-3852
END:VEVENT

END:VCALENDAR
