BEGIN:VCALENDAR
VERSION:2.0
PRODID:-//ChamberMaster//Event Calendar 2.0//EN
METHOD:PUBLISH
X-PUBLISHED-TTL:P3D
REFRESH-INTERVAL:P3D
CALSCALE:GREGORIAN
BEGIN:VEVENT
DTSTART:20151004T003000Z
DTEND:20151004T063000Z
X-MICROSOFT-CDO-ALLDAYEVENT:FALSE
SUMMARY:Sip\, Savour & Support
DESCRIPTION:On October 3rd a dream-team of talent descends on the sleepy hamlet of Mill Bay to stage a spectacular show on a floating barge. However\, if you think fireworks are the main event of this show\, you'd be quite mistaken. The show\, called Sip\, Savour & Support is a culinary one\, specifically a gala - long table - dinner event that serves as the wind up to the Savour Cowichan Festival\, an annual 10-day affair that celebrates the Cowichan Valley's vast cornucopia of locally grown and produced food and drink. There will be a four-course gourmet dinner prepared by celebrity chefs and guests will have a chance to bid on unique auction items while being entertained by the live sounds of one of Vancouver's finest dance bands\, The Famous Players Band. James Walt\, Executive Chef at Araxi Restaurant + Oyster Bar in Whistler won't divulge exactly what the culinary dream team is cooking up for the evening\, but sums it up like this\, "With the amazing supply of locally produced food and award-winning wine\, coupled with great culinary talent and entertainment\, I expect it will be an unforgettable evening." If that's not enough of an enticement\, you might like to know that all proceeds from Sip\, Savour & Support benefit the"Canucks Autism Network\, a non-profit organization that provides high quality programs for individuals and families living with autism in BC. The bad news is that there are only 200 "Sip\, Savour & Support"  tickets available\, which typically get snapped up early. From now until the end of August they are $175 each and from September onwards they are $200 each. Get tickets here: https://canucksautismnetwork.formstack.com/forms/sipsavoursupport2015
X-ALT-DESC;FMTTYPE=text/html:On October 3rd a dream-team of talent descends on the sleepy hamlet of Mill Bay to stage a spectacular show on a floating barge. However\, if you think fireworks are the main event of this show\, you&#39\;d be quite mistaken. The show\, called <strong>Sip\, Savour &amp\; Support</strong> is a culinary one\, specifically a gala - long table - dinner event that serves as the wind up to the <strong>Savour Cowichan Festival</strong>\, an annual 10-day affair that celebrates the Cowichan Valley&#39\;s vast cornucopia of locally grown and produced food and drink. There will be a four-course gourmet dinner prepared by celebrity chefs and guests will have a chance to bid on unique auction items while being entertained by the live sounds of one of Vancouver&#39\;s finest dance bands\, The Famous Players Band. James Walt\, Executive Chef at Araxi Restaurant + Oyster Bar in Whistler won&#39\;t divulge exactly what the culinary dream team is cooking up for the evening\, but sums it up like this\, &quot\;With the amazing supply of locally produced food and award-winning wine\, coupled with great culinary talent and entertainment\, I expect it will be an unforgettable evening.&quot\; If that&#39\;s not enough of an enticement\, you might like to know that all proceeds from <strong>Sip\, Savour &amp\; Support</strong> benefit the&quot\;<strong>Canucks Autism Network</strong>\, a non-profit organization that provides high quality programs for individuals and families living with autism in BC. The bad news is that there are only 200 &quot\;Sip\, Savour &amp\; Support&quot\; &nbsp\;tickets available\, which typically get snapped up early. From now until the end of August they are $175 each and from September onwards they are $200 each. Get tickets here: https://canucksautismnetwork.formstack.com/forms/sipsavoursupport2015
LOCATION:The Barge\, Mill Bay Marina 740 Handy Road Mill Bay\, BC V0R 2P1 Canada
UID:e.1867.3848
SEQUENCE:3
DTSTAMP:20260422T140910Z
URL:https://business.duncancc.bc.ca/events/details/sip-savour-support-10-03-2015-3848
END:VEVENT

END:VCALENDAR
