BEGIN:VCALENDAR
VERSION:2.0
PRODID:-//ChamberMaster//Event Calendar 2.0//EN
METHOD:PUBLISH
X-PUBLISHED-TTL:P3D
REFRESH-INTERVAL:P3D
CALSCALE:GREGORIAN
BEGIN:VEVENT
DTSTART:20150803T000000Z
DTEND:20150803T030000Z
X-MICROSOFT-CDO-ALLDAYEVENT:FALSE
SUMMARY:Pizza Night with Sets in the West
DESCRIPTION:Every Sunday night throughout the summer\, merridale hosts Pizza Nights featuring live entertainment. Salads and pizza toppings change weekly\, depending on the fresh ingredients available in the beautiful Cowichan Valley. Our pizza dough is made from cider yeast and is baked in our outdoor wood-fired brick oven. Reservations are highly recommended. Book your table by calling 250-743-4293 or 1-800-998-9908. You may also request a reservation by emailing your name\, # of guests\, preferred time\, and phone number to info@merridalecider.com.
X-ALT-DESC;FMTTYPE=text/html:Every Sunday night throughout the summer\, merridale hosts Pizza Nights featuring live entertainment. Salads and pizza toppings change weekly\, depending on the fresh ingredients available in the beautiful Cowichan Valley. Our pizza dough is made from cider yeast and is baked in our outdoor wood-fired brick oven. Reservations are highly recommended. Book your table by calling 250-743-4293 or 1-800-998-9908. You may also request a reservation by emailing your name\, # of guests\, preferred time\, and phone number to info@merridalecider.com.
LOCATION:Merridale Ciderworks Corp. PO Box 358\, 1230 Merridale Road Cobble Hill\, B.C. V0R 1L0
UID:e.1867.1836
SEQUENCE:3
DTSTAMP:20260422T172703Z
URL:https://business.duncancc.bc.ca/events/details/pizza-night-with-sets-in-the-west-08-02-2015-1836
END:VEVENT

END:VCALENDAR
