BEGIN:VCALENDAR
VERSION:2.0
PRODID:-//ChamberMaster//Event Calendar 2.0//EN
METHOD:PUBLISH
X-PUBLISHED-TTL:P3D
REFRESH-INTERVAL:P3D
CALSCALE:GREGORIAN
BEGIN:VEVENT
DTSTART:20140619T143000Z
DTEND:20140619T154500Z
X-MICROSOFT-CDO-ALLDAYEVENT:FALSE
SUMMARY:Newbie Breakfast
DESCRIPTION:Are you a new member of the Chamber? Did you join after Aug. 31\, 2013?  Meet up with other new members to connect and grow your network at our Newbie Club breakfast. One of our committee members will call you with a personal invitation\, or contact the Chamber office with your RSVP. This is a non-hosted event and you'll enjoy smart pricing and a tasty breakfast at the York Street Diner.
X-ALT-DESC;FMTTYPE=text/html:<span style="font-family: arial\;"><span style="color: black\;"><span style="font-size: 10pt\;">Are you a new member of the Chamber? Did you join after Aug. 31\, 2013?&nbsp\; Meet up with other new members to connect and grow your network at our Newbie Club breakfast.&nbsp\;One of our committee members will call you with a personal invitation\, or contact the Chamber office with your RSVP.&nbsp\;</span></span><span style="color: black\;"><span style="font-size: 10pt\;">This is a non-hosted event and you&#39\;ll enjoy smart pricing and a tasty breakfast at the York Street Diner.</span></span></span>
LOCATION:York Street Diner 5849 York Street
UID:e.1867.162
SEQUENCE:3
DTSTAMP:20260420T134328Z
URL:https://business.duncancc.bc.ca/events/details/newbie-breakfast-06-19-2014-162
END:VEVENT

END:VCALENDAR
