BEGIN:VCALENDAR
VERSION:2.0
PRODID:-//ChamberMaster//Event Calendar 2.0//EN
METHOD:PUBLISH
X-PUBLISHED-TTL:P3D
REFRESH-INTERVAL:P3D
CALSCALE:GREGORIAN
BEGIN:VEVENT
DTSTART:20150814T160000Z
DTEND:20150815T000000Z
X-MICROSOFT-CDO-ALLDAYEVENT:FALSE
SUMMARY:KinPark Kid's Camp
DESCRIPTION:KinPark Kid's Camp is a great opportunity for children\, ages 6 - 12\, to learn plenty about gardening\, and farming\, while making long lasting memories and friendships. Our focus is on education about planting\, growing\, cooking\, and of course eating local food at our KinPark Youth Urban Farm located in downtown Duncan. Aside from gardening\, planting seeds\, harvesting crops\, and cooking\, other activities at the urban farm include yoga\, sports\, games\, and crafts\, as well as swimming at the Cowichan Aquatic Centre. For more information about our programming\, camp counselors\, and camp activities\, please click the following link: http://cowichangreencommunity.org/project/kinpark-kids-camp-2/
X-ALT-DESC;FMTTYPE=text/html:KinPark Kid&#39\;s Camp is a great opportunity for children\, ages 6 - 12\, to learn plenty about gardening\, and farming\, while making long lasting memories and friendships. Our focus is on education about planting\, growing\, cooking\, and of course eating local food at our KinPark Youth Urban Farm located in downtown Duncan. Aside from gardening\, planting seeds\, harvesting crops\, and cooking\, other activities at the urban farm include yoga\, sports\, games\, and crafts\, as well as swimming at the Cowichan Aquatic Centre. For more information about our programming\, camp counselors\, and camp activities\, please click the following link: http://cowichangreencommunity.org/project/kinpark-kids-camp-2/
LOCATION:KinPark Youth Urban Farm 5789 Aldrelea Street\, Duncan BC
UID:e.1867.1567
SEQUENCE:3
DTSTAMP:20260422T172608Z
URL:https://business.duncancc.bc.ca/events/details/kinpark-kid-s-camp-08-14-2015-1567
END:VEVENT

END:VCALENDAR
