BEGIN:VCALENDAR
VERSION:2.0
PRODID:-//ChamberMaster//Event Calendar 2.0//EN
METHOD:PUBLISH
X-PUBLISHED-TTL:P3D
REFRESH-INTERVAL:P3D
CALSCALE:GREGORIAN
BEGIN:VEVENT
DTSTART:20151018T010000Z
DTEND:20151018T050000Z
X-MICROSOFT-CDO-ALLDAYEVENT:FALSE
SUMMARY:DUNCAN VARIETY CONCERT
DESCRIPTION:Sunset Chapter\, Order of the Eastern Star Celebrates 90 years in Duncan! Entertainment by Alf Carter with Mike Broadley\, David Flello\, Nick LaRiviere and Sisters Karen Lonsdale & Barbara Stewart providing toe tapping music and dancing. No host bar\, door prizes and chances at 50/50. Doors open-5:30pm. Roast beef dinner-6:30pm. Show @ 8:00pm. Members support local charities and the BC Cancer Foundation-BC Cancer Agency\, Service Dogs and Children's Wish. Sponsored by the Cowichan Valley Sunset Society.
X-ALT-DESC;FMTTYPE=text/html:Sunset Chapter\, Order of the Eastern Star Celebrates 90 years in Duncan! Entertainment by Alf Carter with Mike Broadley\, David Flello\, Nick LaRiviere and Sisters Karen Lonsdale &amp\; Barbara Stewart providing toe tapping music and dancing. No host bar\, door prizes and chances at 50/50. Doors open-5:30pm. Roast beef dinner-6:30pm. Show @ 8:00pm. Members support local charities and the BC Cancer Foundation-BC Cancer Agency\, Service Dogs and Children&#39\;s Wish. Sponsored by the Cowichan Valley Sunset Society.
LOCATION:Eagles Hall\, 2965 Boys Rd. Duncan
UID:e.1867.3849
SEQUENCE:3
DTSTAMP:20260422T141032Z
URL:https://business.duncancc.bc.ca/events/details/duncan-variety-concert-10-17-2015-3849
END:VEVENT

END:VCALENDAR
