BEGIN:VCALENDAR
VERSION:2.0
PRODID:-//ChamberMaster//Event Calendar 2.0//EN
METHOD:PUBLISH
X-PUBLISHED-TTL:P3D
REFRESH-INTERVAL:P3D
CALSCALE:GREGORIAN
BEGIN:VEVENT
DTSTART:20260530T150000Z
DTEND:20260530T190000Z
X-MICROSOFT-CDO-ALLDAYEVENT:FALSE
SUMMARY:Deans Marine Annual Marine Swap n Shop
DESCRIPTION:
X-ALT-DESC;FMTTYPE=text/html:
LOCATION:
UID:e.1867.14152
SEQUENCE:3
DTSTAMP:20260423T115257Z
URL:https://business.duncancc.bc.ca/events/details/deans-marine-annual-marine-swap-n-shop-14152
END:VEVENT

END:VCALENDAR
