BEGIN:VCALENDAR
VERSION:2.0
PRODID:-//ChamberMaster//Event Calendar 2.0//EN
METHOD:PUBLISH
X-PUBLISHED-TTL:P3D
REFRESH-INTERVAL:P3D
CALSCALE:GREGORIAN
BEGIN:VEVENT
DTSTART:20151107T030000Z
DTEND:20151107T050000Z
X-MICROSOFT-CDO-ALLDAYEVENT:FALSE
SUMMARY:Community Bridging Dance
DESCRIPTION:Everyone is welcome to the Community Bridging Dance\, you can expect door prizes\, snacks\, beverages\, and dance facilitators. This family friendly event by donation is brought to you be the Cowichan Intercultural Society and is in support of the Multicultural Leadership Group. Join us Where Cultures Connect!
X-ALT-DESC;FMTTYPE=text/html:Everyone is welcome to the Community Bridging Dance\, you can expect door prizes\, snacks\, beverages\, and dance facilitators. This family friendly event by donation is brought to you be the Cowichan Intercultural Society and is in support of the Multicultural Leadership Group. Join us Where Cultures Connect!
LOCATION:Duncan United Church 246 Ingram Street
UID:e.1867.3871
SEQUENCE:3
DTSTAMP:20260422T125722Z
URL:https://business.duncancc.bc.ca/events/details/community-bridging-dance-11-06-2015-3871
END:VEVENT

END:VCALENDAR
