BEGIN:VCALENDAR
VERSION:2.0
PRODID:-//ChamberMaster//Event Calendar 2.0//EN
METHOD:PUBLISH
X-PUBLISHED-TTL:P3D
REFRESH-INTERVAL:P3D
CALSCALE:GREGORIAN
BEGIN:VEVENT
DTSTART:20150926T173000Z
DTEND:20150926T183000Z
X-MICROSOFT-CDO-ALLDAYEVENT:FALSE
SUMMARY:Bluebirds in YOUR Backyard?
DESCRIPTION:We are looking for landowners in the Cowichan Valley to host nestboxes on their property! Do you have scattered trees on a couple of acres of fields? We would love to talk to you about hosting nestboxes for bluebirds and other native cavity-nesting birds!
X-ALT-DESC;FMTTYPE=text/html:We are looking for landowners in the Cowichan Valley to host nestboxes on their property! Do you have scattered trees on a couple of acres of fields? We would love to talk to you about hosting nestboxes for bluebirds and other native cavity-nesting birds!
LOCATION:Cowichan Estuary Nature Centre\, 1845 Cowichan Bay Road
UID:e.1867.3862
SEQUENCE:3
DTSTAMP:20260422T154211Z
URL:https://business.duncancc.bc.ca/events/details/bluebirds-in-your-backyard-09-26-2015-3862
END:VEVENT

END:VCALENDAR
