BEGIN:VCALENDAR
VERSION:2.0
PRODID:-//ChamberMaster//Event Calendar 2.0//EN
METHOD:PUBLISH
X-PUBLISHED-TTL:P3D
REFRESH-INTERVAL:P3D
CALSCALE:GREGORIAN
BEGIN:VEVENT
DTSTART:20151007T013000Z
DTEND:20151007T033000Z
X-MICROSOFT-CDO-ALLDAYEVENT:FALSE
SUMMARY:Air Pollution: What are the risks? Public Health Forum
DESCRIPTION:"You are what you breathe\," says Dr. David Suzuki. The quality of air that we breathe into our lungs can have a great impact on our overall health. Experts in the field Drs. Michael Brauer and Sarah Henderson can answer your questions about the health effects of air pollution and the risk of exposure in your communities. Topics include pollutants and their sources\, pollutant transport in the atmosphere\, health effects\, and airshed management\,
X-ALT-DESC;FMTTYPE=text/html:&quot\;You are what you breathe\,&quot\; says Dr. David Suzuki. The quality of air that we breathe into our lungs can have a great impact on our overall health. Experts in the field Drs. Michael Brauer and Sarah Henderson can answer your questions about the health effects of air pollution and the risk of exposure in your communities. Topics include pollutants and their sources\, pollutant transport in the atmosphere\, health effects\, and airshed management\,
LOCATION:Riverwalk Cafe\, Quw'utsun' Cultural and Conference Center. 200 Cowichan Way\, Duncan\, BC
UID:e.1867.3864
SEQUENCE:3
DTSTAMP:20260422T141201Z
URL:https://business.duncancc.bc.ca/events/details/air-pollution-what-are-the-risks-public-health-forum-10-06-2015-3864
END:VEVENT

END:VCALENDAR
