BEGIN:VCALENDAR
VERSION:2.0
PRODID:-//ChamberMaster//Event Calendar 2.0//EN
METHOD:PUBLISH
X-PUBLISHED-TTL:P3D
REFRESH-INTERVAL:P3D
CALSCALE:GREGORIAN
BEGIN:VEVENT
DTSTART:20260424T190000Z
DTEND:20260424T190000Z
X-MICROSOFT-CDO-ALLDAYEVENT:FALSE
SUMMARY:The Ladies Foursome
DESCRIPTION:Get ready to laugh and cry on the green with Norm Foster?s uproarious comedy\, The Ladies Foursome! Four friends tee off in a full round of golf the day after a friend?s funeral - revealing long-kept secrets\, hilarious confessions\, and pining for love near and far. Content Advisory: Ages 16+ ? Comedic discussions of mature themes\, including sex and death ? Some strong language and use of alcohol
X-ALT-DESC;FMTTYPE=text/html:Get ready to laugh and cry on the green with Norm Foster?s uproarious comedy\, The Ladies Foursome! Four friends tee off in a full round of golf the day after a friend?s funeral - revealing long-kept secrets\, hilarious confessions\, and pining for love near and far. Content Advisory: Ages 16+ ? Comedic discussions of mature themes\, including sex and death ? Some strong language and use of alcohol
LOCATION:The Chemainus Theatre 9737 Chemainus Rd
UID:e.1867.14112
SEQUENCE:3
DTSTAMP:20260421T235711Z
URL:http://business.duncancc.bc.ca/events/details/the-ladies-foursome-04-24-2026-14112
END:VEVENT

END:VCALENDAR
